BEGIN:VCALENDAR
VERSION:2.0
PRODID:-//MSVU Art Gallery - ECPv6.15.1.1//NONSGML v1.0//EN
CALSCALE:GREGORIAN
METHOD:PUBLISH
X-ORIGINAL-URL:https://www.msvuart.ca
X-WR-CALDESC:Events for MSVU Art Gallery
REFRESH-INTERVAL;VALUE=DURATION:PT1H
X-Robots-Tag:noindex
X-PUBLISHED-TTL:PT1H
BEGIN:VTIMEZONE
TZID:America/Halifax
BEGIN:DAYLIGHT
TZOFFSETFROM:-0400
TZOFFSETTO:-0300
TZNAME:ADT
DTSTART:20150308T060000
END:DAYLIGHT
BEGIN:STANDARD
TZOFFSETFROM:-0300
TZOFFSETTO:-0400
TZNAME:AST
DTSTART:20151101T050000
END:STANDARD
BEGIN:DAYLIGHT
TZOFFSETFROM:-0400
TZOFFSETTO:-0300
TZNAME:ADT
DTSTART:20160313T060000
END:DAYLIGHT
BEGIN:STANDARD
TZOFFSETFROM:-0300
TZOFFSETTO:-0400
TZNAME:AST
DTSTART:20161106T050000
END:STANDARD
END:VTIMEZONE
BEGIN:VEVENT
DTSTART;VALUE=DATE:20151203
DTEND;VALUE=DATE:20160222
DTSTAMP:20260423T021018
CREATED:20190815T151424Z
LAST-MODIFIED:20190815T164457Z
UID:10000189-1449100800-1456099199@www.msvuart.ca
SUMMARY:Robert Tombs: Index. Graphic Works 1985-2015
DESCRIPTION:[vc_row type=”in_container” full_screen_row_position=”middle” scene_position=”center” text_color=”dark” text_align=”left” overlay_strength=”0.3″ shape_divider_position=”bottom” bg_image_animation=”none”][vc_column column_padding=”no-extra-padding” column_padding_position=”all” background_color_opacity=”1″ background_hover_color_opacity=”1″ column_link_target=”_self” column_shadow=”none” column_border_radius=”none” width=”1/1″ tablet_width_inherit=”default” tablet_text_alignment=”default” phone_text_alignment=”default” column_border_width=”none” column_border_style=”solid” bg_image_animation=”none”][vc_column_text]Operating within the tradition of the artist/typographer/designer\, Robert Tombs’ practice incorporates print\, photography and site-specific installation. The body of graphic work presented in this exhibition represents Tombs’ collaborations with numerous artists\, writers\, artist-run centres\, art galleries\, academic presses and printers to create books and artist-related publications. Viewed collectively\, the printed matter emerging from these partnerships provides a survey not only of Tombs’ design work but also his clients’ projects and publications over the last thirty years. \nThe exhibition catalogue\, designed by Tombs and featuring critical essays by Michael Davidge and Marina Roy\, functions as the latest contribution to Robert Tombs: Index. Graphic Works 1985–2015. \nArtist Talk Saturday\, February 6 at 2:00pm\nRobert Tombs will offer an illustrated talk about his different design approaches when working on projects for MSVU Art Gallery\, Owens Art Gallery\, Cornell University Press and independent artist publishers.[/vc_column_text][vc_gallery type=”image_grid” images=”17241\,17242″ display_title_caption=”true” layout=”3″ masonry_style=”true” item_spacing=”default” gallery_style=”2″ load_in_animation=”none”][divider line_type=”No Line”][/vc_column][/vc_row]
URL:https://www.msvuart.ca/exhibition/robert-tombs-index-graphic-works-1985-2015/
LOCATION:Canada
CATEGORIES:Design,Modernist Survivals
ATTACH;FMTTYPE=image/jpeg:https://www.msvuart.ca/wp-content/uploads/2019/08/Voices-in-Longitude-and-Latitude-a-video-installation-by-Marnina-Noam-Gonick-exhibition-catalogue-MSVU-Art-Gallery-Design-Robert-Tombs-Studio-2014.jpg
END:VEVENT
END:VCALENDAR