BEGIN:VCALENDAR
VERSION:2.0
PRODID:-//MSVU Art Gallery - ECPv6.15.1.1//NONSGML v1.0//EN
CALSCALE:GREGORIAN
METHOD:PUBLISH
X-ORIGINAL-URL:https://www.msvuart.ca
X-WR-CALDESC:Events for MSVU Art Gallery
REFRESH-INTERVAL;VALUE=DURATION:PT1H
X-Robots-Tag:noindex
X-PUBLISHED-TTL:PT1H
BEGIN:VTIMEZONE
TZID:America/Halifax
BEGIN:DAYLIGHT
TZOFFSETFROM:-0400
TZOFFSETTO:-0300
TZNAME:ADT
DTSTART:20160313T060000
END:DAYLIGHT
BEGIN:STANDARD
TZOFFSETFROM:-0300
TZOFFSETTO:-0400
TZNAME:AST
DTSTART:20161106T050000
END:STANDARD
END:VTIMEZONE
BEGIN:VEVENT
DTSTART;VALUE=DATE:20160116
DTEND;VALUE=DATE:20160314
DTSTAMP:20260423T034009
CREATED:20160918T105034Z
LAST-MODIFIED:20190723T145952Z
UID:10000045-1452902400-1457913599@www.msvuart.ca
SUMMARY:Kids these days
DESCRIPTION:[vc_row type=”in_container” full_screen_row_position=”middle” scene_position=”center” text_color=”dark” text_align=”left” overlay_strength=”0.3″ shape_divider_position=”bottom” bg_image_animation=”none”][vc_column column_padding=”no-extra-padding” column_padding_position=”all” background_color_opacity=”1″ background_hover_color_opacity=”1″ column_link_target=”_self” column_shadow=”none” column_border_radius=”none” width=”1/1″ tablet_width_inherit=”default” tablet_text_alignment=”default” phone_text_alignment=”default” column_border_width=”none” column_border_style=”solid” bg_image_animation=”none”][vc_column_text]Kids these days presents video\, photography\, and graphic works that draw from the fields of anthropology\, psychology and sociology\, to examine youth and youth cultures in the Canadian context. The artists document young people—their bodies\, expressions\, and movements—while investigating their tastes\, thoughts\, clothing styles\, methods of communication\, and leisure activities. The resulting artworks suggest an underlying desire on the part of the artists to capture the “essence” of youth or at least to affiliate themselves with the coveted values typically associated with this group: freedom\, escape\, authenticity\, expressivity\, creativity\, and idealism.[/vc_column_text][vc_gallery type=”image_grid” images=”15678\,15679\,15680\,15681\,15682″ display_title_caption=”true” layout=”3″ masonry_style=”true” item_spacing=”default” gallery_style=”2″ load_in_animation=”none”][divider line_type=”No Line”][/vc_column][/vc_row][vc_row type=”in_container” full_screen_row_position=”middle” scene_position=”center” text_color=”dark” text_align=”left” overlay_strength=”0.3″ shape_divider_position=”bottom” bg_image_animation=”none”][vc_column column_padding=”no-extra-padding” column_padding_position=”all” background_color_opacity=”1″ background_hover_color_opacity=”1″ column_link_target=”_self” column_shadow=”none” column_border_radius=”none” width=”1/2″ tablet_width_inherit=”default” tablet_text_alignment=”default” phone_text_alignment=”default” column_border_width=”none” column_border_style=”solid” bg_image_animation=”none”][vc_column_text]\nOpening Reception and Public Conversation\n[/vc_column_text][vc_column_text el_id=”talkdate”]Saturday\, January 16th at 2:00pm[/vc_column_text][vc_column_text]Curator Zoë Chan and Dr. Marnina Gonick\, Canada Research Chair in Gender Identity and Social Practices at MSVU\, will hold a public conversation discussing the exhibition and its larger social and artistic contexts.\n\nPUBLIC READING\, March 2nd at 12:00pm\n \n“What was I thinking? “ public reading/open mic reading of stories\, poems\, notes\, designs\, plans\, schemes\, dreams\, etc from when the participants were teenagers.[/vc_column_text][/vc_column][vc_column column_padding=”no-extra-padding” column_padding_position=”all” background_color_opacity=”1″ background_hover_color_opacity=”1″ column_link_target=”_self” column_shadow=”none” column_border_radius=”none” width=”1/4″ tablet_width_inherit=”default” tablet_text_alignment=”default” phone_text_alignment=”default” column_border_width=”none” column_border_style=”solid” bg_image_animation=”none”][vc_column_text]\nCatalogue\n[/vc_column_text][image_with_animation image_url=”15220″ alignment=”” animation=”Fade In” border_radius=”none” box_shadow=”none” max_width=”100%” img_link=”/product/kids-these-days/”][/vc_column][vc_column column_padding=”no-extra-padding” column_padding_position=”all” background_color_opacity=”1″ background_hover_color_opacity=”1″ column_link_target=”_self” column_shadow=”none” column_border_radius=”none” width=”1/4″ tablet_width_inherit=”default” tablet_text_alignment=”default” phone_text_alignment=”default” column_border_width=”none” column_border_style=”solid” bg_image_animation=”none”][/vc_column][/vc_row]
URL:https://www.msvuart.ca/exhibition/kids-these-days/
LOCATION:Canada
CATEGORIES:Drawing & Printmaking,Film & Video,Photography
ATTACH;FMTTYPE=image/jpeg:https://www.msvuart.ca/wp-content/uploads/2018/09/Guillaume-Simoneau-Untitled-02-Lévis-Canada-2008-C-print-16-from-the-Between-Grass-and-Steel-series-2004-2011..jpg
END:VEVENT
END:VCALENDAR